BEGIN:VCALENDAR
VERSION:2.0
PRODID:-//Karen RIVIERE Photographies - ECPv4.8.2//NONSGML v1.0//EN
CALSCALE:GREGORIAN
METHOD:PUBLISH
X-WR-CALNAME:Karen RIVIERE Photographies
X-ORIGINAL-URL:http://karenriviere.fr
X-WR-CALDESC:Évènements pour Karen RIVIERE Photographies
BEGIN:VEVENT
DTSTART;VALUE=DATE:20220104
DTEND;VALUE=DATE:20220105
DTSTAMP:20260425T175324
CREATED:20211014T185710Z
LAST-MODIFIED:20211014T185852Z
UID:2571-1641254400-1641340799@karenriviere.fr
SUMMARY:Cette date n'est plus disponible. ❌
DESCRIPTION:
URL:http://karenriviere.fr/agenda/matin-disponible-%e2%9c%85-apres-midi-plus-disponible-%e2%9d%8c-9/
END:VEVENT
END:VCALENDAR