BEGIN:VCALENDAR
VERSION:2.0
PRODID:-//Karen RIVIERE Photographies - ECPv4.8.2//NONSGML v1.0//EN
CALSCALE:GREGORIAN
METHOD:PUBLISH
X-WR-CALNAME:Karen RIVIERE Photographies
X-ORIGINAL-URL:http://karenriviere.fr
X-WR-CALDESC:Évènements pour Karen RIVIERE Photographies
BEGIN:VEVENT
DTSTART;VALUE=DATE:20220107
DTEND;VALUE=DATE:20220108
DTSTAMP:20260425T112556
CREATED:20211014T185649Z
LAST-MODIFIED:20211030T175015Z
UID:2569-1641513600-1641599999@karenriviere.fr
SUMMARY:Cette date n’est plus disponible. ❌
DESCRIPTION:
URL:http://karenriviere.fr/agenda/matin-disponible-%e2%9c%85-apres-midi-plus-disponible-%e2%9d%8c-8/
END:VEVENT
END:VCALENDAR