BEGIN:VCALENDAR
VERSION:2.0
PRODID:-//Karen RIVIERE Photographies - ECPv4.8.2//NONSGML v1.0//EN
CALSCALE:GREGORIAN
METHOD:PUBLISH
X-WR-CALNAME:Karen RIVIERE Photographies
X-ORIGINAL-URL:http://karenriviere.fr
X-WR-CALDESC:Évènements pour Karen RIVIERE Photographies
BEGIN:VEVENT
DTSTART;VALUE=DATE:20230904
DTEND;VALUE=DATE:20230905
DTSTAMP:20260422T013913
CREATED:20230720T083205Z
LAST-MODIFIED:20230720T083205Z
UID:3545-1693785600-1693871999@karenriviere.fr
SUMMARY:Cette date n’est plus disponible. ?
DESCRIPTION:
URL:http://karenriviere.fr/agenda/cette-date-nest-plus-disponible-271/
END:VEVENT
END:VCALENDAR