BEGIN:VCALENDAR
VERSION:2.0
PRODID:-//Karen RIVIERE Photographies - ECPv4.8.2//NONSGML v1.0//EN
CALSCALE:GREGORIAN
METHOD:PUBLISH
X-WR-CALNAME:Karen RIVIERE Photographies
X-ORIGINAL-URL:http://karenriviere.fr
X-WR-CALDESC:Évènements pour Karen RIVIERE Photographies
BEGIN:VEVENT
DTSTART;VALUE=DATE:20211218
DTEND;VALUE=DATE:20211220
DTSTAMP:20260425T211544
CREATED:20210810T095047Z
LAST-MODIFIED:20210810T095047Z
UID:2464-1639785600-1639958399@karenriviere.fr
SUMMARY:Cette date n’est plus disponible.
DESCRIPTION:
URL:http://karenriviere.fr/agenda/cette-date-nest-plus-disponible-269/
END:VEVENT
END:VCALENDAR