BEGIN:VCALENDAR
VERSION:2.0
PRODID:-//Karen RIVIERE Photographies - ECPv4.8.2//NONSGML v1.0//EN
CALSCALE:GREGORIAN
METHOD:PUBLISH
X-WR-CALNAME:Karen RIVIERE Photographies
X-ORIGINAL-URL:http://karenriviere.fr
X-WR-CALDESC:Évènements pour Karen RIVIERE Photographies
BEGIN:VEVENT
DTSTART;VALUE=DATE:20211216
DTEND;VALUE=DATE:20211218
DTSTAMP:20260425T211534
CREATED:20210810T095027Z
LAST-MODIFIED:20210816T154714Z
UID:2462-1639612800-1639785599@karenriviere.fr
SUMMARY:Cette date n’est plus disponible.
DESCRIPTION:
URL:http://karenriviere.fr/agenda/cette-date-nest-plus-disponible-268/
END:VEVENT
END:VCALENDAR