BEGIN:VCALENDAR
VERSION:2.0
PRODID:-//Karen RIVIERE Photographies - ECPv4.8.2//NONSGML v1.0//EN
CALSCALE:GREGORIAN
METHOD:PUBLISH
X-WR-CALNAME:Karen RIVIERE Photographies
X-ORIGINAL-URL:http://karenriviere.fr
X-WR-CALDESC:Évènements pour Karen RIVIERE Photographies
BEGIN:VEVENT
DTSTART;VALUE=DATE:20210913
DTEND;VALUE=DATE:20210918
DTSTAMP:20260426T041743
CREATED:20210710T094314Z
LAST-MODIFIED:20210712T141357Z
UID:2447-1631491200-1631923199@karenriviere.fr
SUMMARY:Cette date n’est plus disponible.
DESCRIPTION:
URL:http://karenriviere.fr/agenda/cette-date-nest-plus-disponible-264/
END:VEVENT
END:VCALENDAR