BEGIN:VCALENDAR
VERSION:2.0
PRODID:-//Karen RIVIERE Photographies - ECPv4.8.2//NONSGML v1.0//EN
CALSCALE:GREGORIAN
METHOD:PUBLISH
X-WR-CALNAME:Karen RIVIERE Photographies
X-ORIGINAL-URL:http://karenriviere.fr
X-WR-CALDESC:Évènements pour Karen RIVIERE Photographies
BEGIN:VEVENT
DTSTART;VALUE=DATE:20210802
DTEND;VALUE=DATE:20210901
DTSTAMP:20260426T040832
CREATED:20210325T154806Z
LAST-MODIFIED:20210616T171041Z
UID:2355-1627862400-1630454399@karenriviere.fr
SUMMARY:Cette date n’est plus disponible.
DESCRIPTION:
URL:http://karenriviere.fr/agenda/cette-date-nest-plus-disponible-232/
END:VEVENT
END:VCALENDAR