BEGIN:VCALENDAR
VERSION:2.0
PRODID:-//Karen RIVIERE Photographies - ECPv4.8.2//NONSGML v1.0//EN
CALSCALE:GREGORIAN
METHOD:PUBLISH
X-WR-CALNAME:Karen RIVIERE Photographies
X-ORIGINAL-URL:http://karenriviere.fr
X-WR-CALDESC:Évènements pour Karen RIVIERE Photographies
BEGIN:VEVENT
DTSTART;VALUE=DATE:20211203
DTEND;VALUE=DATE:20211206
DTSTAMP:20260425T211717
CREATED:20210215T114407Z
LAST-MODIFIED:20210810T094805Z
UID:2338-1638489600-1638748799@karenriviere.fr
SUMMARY:Cette date n’est plus disponible.
DESCRIPTION:
URL:http://karenriviere.fr/agenda/cette-date-nest-plus-disponible-226/
END:VEVENT
END:VCALENDAR