BEGIN:VCALENDAR
VERSION:2.0
PRODID:-//Karen RIVIERE Photographies - ECPv4.8.2//NONSGML v1.0//EN
CALSCALE:GREGORIAN
METHOD:PUBLISH
X-WR-CALNAME:Karen RIVIERE Photographies
X-ORIGINAL-URL:http://karenriviere.fr
X-WR-CALDESC:Évènements pour Karen RIVIERE Photographies
BEGIN:VEVENT
DTSTART;TZID=Indian/Reunion:20220623T080000
DTEND;TZID=Indian/Reunion:20220630T170000
DTSTAMP:20260423T063735
CREATED:20220612T165358Z
LAST-MODIFIED:20220612T165358Z
UID:2744-1655971200-1656608400@karenriviere.fr
SUMMARY:Cette date n’est plus disponible. ❌
DESCRIPTION:
URL:http://karenriviere.fr/agenda/cette-date-nest-plus-disponible-%e2%9d%8c-50/
END:VEVENT
END:VCALENDAR