BEGIN:VCALENDAR
VERSION:2.0
PRODID:-//Karen RIVIERE Photographies - ECPv4.8.2//NONSGML v1.0//EN
CALSCALE:GREGORIAN
METHOD:PUBLISH
X-WR-CALNAME:Karen RIVIERE Photographies
X-ORIGINAL-URL:http://karenriviere.fr
X-WR-CALDESC:Évènements pour Karen RIVIERE Photographies
BEGIN:VEVENT
DTSTART;VALUE=DATE:20251223
DTEND;VALUE=DATE:20251224
DTSTAMP:20260419T232736
CREATED:20251104T080409Z
LAST-MODIFIED:20251104T080409Z
UID:4718-1766448000-1766534399@karenriviere.fr
SUMMARY:CETTE DATE N’EST PLUS DISPONIBLE. ❌
DESCRIPTION:
URL:http://karenriviere.fr/agenda/cette-date-nest-plus-disponible-%e2%9d%8c-301/
END:VEVENT
END:VCALENDAR