BEGIN:VCALENDAR
VERSION:2.0
PRODID:-//Karen RIVIERE Photographies - ECPv4.8.2//NONSGML v1.0//EN
CALSCALE:GREGORIAN
METHOD:PUBLISH
X-WR-CALNAME:Karen RIVIERE Photographies
X-ORIGINAL-URL:http://karenriviere.fr
X-WR-CALDESC:Évènements pour Karen RIVIERE Photographies
BEGIN:VEVENT
DTSTART;VALUE=DATE:20251230
DTEND;VALUE=DATE:20260103
DTSTAMP:20260419T210142
CREATED:20251002T074902Z
LAST-MODIFIED:20251002T074902Z
UID:4689-1767052800-1767398399@karenriviere.fr
SUMMARY:CETTE DATE N’EST PLUS DISPONIBLE. ❌
DESCRIPTION:
URL:http://karenriviere.fr/agenda/cette-date-nest-plus-disponible-%e2%9d%8c-296/
END:VEVENT
END:VCALENDAR