BEGIN:VCALENDAR
VERSION:2.0
PRODID:-//Karen RIVIERE Photographies - ECPv4.8.2//NONSGML v1.0//EN
CALSCALE:GREGORIAN
METHOD:PUBLISH
X-WR-CALNAME:Karen RIVIERE Photographies
X-ORIGINAL-URL:http://karenriviere.fr
X-WR-CALDESC:Évènements pour Karen RIVIERE Photographies
BEGIN:VEVENT
DTSTART;VALUE=DATE:20250507
DTEND;VALUE=DATE:20250508
DTSTAMP:20260420T113641
CREATED:20250127T144537Z
LAST-MODIFIED:20250127T144537Z
UID:4141-1746576000-1746662399@karenriviere.fr
SUMMARY:Cette date n’est plus disponible. ❌
DESCRIPTION:
URL:http://karenriviere.fr/agenda/cette-date-nest-plus-disponible-%e2%9d%8c-257/
END:VEVENT
END:VCALENDAR