BEGIN:VCALENDAR
VERSION:2.0
PRODID:-//Karen RIVIERE Photographies - ECPv4.8.2//NONSGML v1.0//EN
CALSCALE:GREGORIAN
METHOD:PUBLISH
X-WR-CALNAME:Karen RIVIERE Photographies
X-ORIGINAL-URL:http://karenriviere.fr
X-WR-CALDESC:Évènements pour Karen RIVIERE Photographies
BEGIN:VEVENT
DTSTART;TZID=Indian/Reunion:20241018T080000
DTEND;TZID=Indian/Reunion:20241020T170000
DTSTAMP:20260421T002309
CREATED:20241002T134737Z
LAST-MODIFIED:20241016T062615Z
UID:3965-1729238400-1729443600@karenriviere.fr
SUMMARY:Cette date n’est plus disponible. ❌
DESCRIPTION:
URL:http://karenriviere.fr/agenda/cette-date-nest-plus-disponible-%e2%9d%8c-221/
END:VEVENT
END:VCALENDAR