BEGIN:VCALENDAR
VERSION:2.0
PRODID:-//Karen RIVIERE Photographies - ECPv4.8.2//NONSGML v1.0//EN
CALSCALE:GREGORIAN
METHOD:PUBLISH
X-WR-CALNAME:Karen RIVIERE Photographies
X-ORIGINAL-URL:http://karenriviere.fr
X-WR-CALDESC:Évènements pour Karen RIVIERE Photographies
BEGIN:VEVENT
DTSTART;TZID=Indian/Reunion:20240823T080000
DTEND;TZID=Indian/Reunion:20240826T170000
DTSTAMP:20260421T020107
CREATED:20240620T105209Z
LAST-MODIFIED:20240620T105225Z
UID:3878-1724400000-1724691600@karenriviere.fr
SUMMARY:Cette date n’est plus disponible. ❌
DESCRIPTION:
URL:http://karenriviere.fr/agenda/cette-date-nest-plus-disponible-%e2%9d%8c-214/
END:VEVENT
END:VCALENDAR