BEGIN:VCALENDAR
VERSION:2.0
PRODID:-//Karen RIVIERE Photographies - ECPv4.8.2//NONSGML v1.0//EN
CALSCALE:GREGORIAN
METHOD:PUBLISH
X-WR-CALNAME:Karen RIVIERE Photographies
X-ORIGINAL-URL:http://karenriviere.fr
X-WR-CALDESC:Évènements pour Karen RIVIERE Photographies
BEGIN:VEVENT
DTSTART;TZID=Indian/Reunion:20240217T000000
DTEND;TZID=Indian/Reunion:20240220T235900
DTSTAMP:20260421T160700
CREATED:20240120T122602Z
LAST-MODIFIED:20240220T054917Z
UID:3659-1708128000-1708473540@karenriviere.fr
SUMMARY:Cette date n’est plus disponible. ❌
DESCRIPTION:
URL:http://karenriviere.fr/agenda/cette-date-nest-plus-disponible-%e2%9d%8c-171/
END:VEVENT
END:VCALENDAR