BEGIN:VCALENDAR
VERSION:2.0
PRODID:-//Karen RIVIERE Photographies - ECPv4.8.2//NONSGML v1.0//EN
CALSCALE:GREGORIAN
METHOD:PUBLISH
X-WR-CALNAME:Karen RIVIERE Photographies
X-ORIGINAL-URL:http://karenriviere.fr
X-WR-CALDESC:Évènements pour Karen RIVIERE Photographies
BEGIN:VEVENT
DTSTART;VALUE=DATE:20240809
DTEND;VALUE=DATE:20240812
DTSTAMP:20260421T055324
CREATED:20231122T132455Z
LAST-MODIFIED:20231122T132455Z
UID:3621-1723161600-1723420799@karenriviere.fr
SUMMARY:Cette date n’est plus disponible. ❌
DESCRIPTION:
URL:http://karenriviere.fr/agenda/cette-date-nest-plus-disponible-%e2%9d%8c-161/
END:VEVENT
END:VCALENDAR