BEGIN:VCALENDAR
VERSION:2.0
PRODID:-//Karen RIVIERE Photographies - ECPv4.8.2//NONSGML v1.0//EN
CALSCALE:GREGORIAN
METHOD:PUBLISH
X-WR-CALNAME:Karen RIVIERE Photographies
X-ORIGINAL-URL:http://karenriviere.fr
X-WR-CALDESC:Évènements pour Karen RIVIERE Photographies
BEGIN:VEVENT
DTSTART;VALUE=DATE:20220210
DTEND;VALUE=DATE:20220211
DTSTAMP:20260423T232147
CREATED:20210930T153712Z
LAST-MODIFIED:20210930T153712Z
UID:2559-1644451200-1644537599@karenriviere.fr
SUMMARY:Cette date n’est plus disponible. ❌
DESCRIPTION:
URL:http://karenriviere.fr/agenda/cette-date-nest-plus-disponible-%e2%9d%8c-16/
END:VEVENT
END:VCALENDAR