BEGIN:VCALENDAR
VERSION:2.0
PRODID:-//Karen RIVIERE Photographies - ECPv4.8.2//NONSGML v1.0//EN
CALSCALE:GREGORIAN
METHOD:PUBLISH
X-WR-CALNAME:Karen RIVIERE Photographies
X-ORIGINAL-URL:http://karenriviere.fr
X-WR-CALDESC:Évènements pour Karen RIVIERE Photographies
BEGIN:VEVENT
DTSTART;VALUE=DATE:20240224
DTEND;VALUE=DATE:20240226
DTSTAMP:20260421T151109
CREATED:20231122T132108Z
LAST-MODIFIED:20231122T132108Z
UID:3611-1708732800-1708905599@karenriviere.fr
SUMMARY:Cette date n’est plus disponible. ❌
DESCRIPTION:
URL:http://karenriviere.fr/agenda/cette-date-nest-plus-disponible-%e2%9d%8c-156/
END:VEVENT
END:VCALENDAR